BEGIN:VCALENDAR
VERSION:2.0
PRODID:-//Maximizer CRM - ECPv6.15.18//NONSGML v1.0//EN
CALSCALE:GREGORIAN
METHOD:PUBLISH
X-ORIGINAL-URL:https://www.maximizer.com
X-WR-CALDESC:Events for Maximizer CRM
REFRESH-INTERVAL;VALUE=DURATION:PT1H
X-Robots-Tag:noindex
X-PUBLISHED-TTL:PT1H
BEGIN:VTIMEZONE
TZID:America/Toronto
BEGIN:DAYLIGHT
TZOFFSETFROM:-0500
TZOFFSETTO:-0400
TZNAME:EDT
DTSTART:20240310T070000
END:DAYLIGHT
BEGIN:STANDARD
TZOFFSETFROM:-0400
TZOFFSETTO:-0500
TZNAME:EST
DTSTART:20241103T060000
END:STANDARD
BEGIN:DAYLIGHT
TZOFFSETFROM:-0500
TZOFFSETTO:-0400
TZNAME:EDT
DTSTART:20250309T070000
END:DAYLIGHT
BEGIN:STANDARD
TZOFFSETFROM:-0400
TZOFFSETTO:-0500
TZNAME:EST
DTSTART:20251102T060000
END:STANDARD
BEGIN:DAYLIGHT
TZOFFSETFROM:-0500
TZOFFSETTO:-0400
TZNAME:EDT
DTSTART:20260308T070000
END:DAYLIGHT
BEGIN:STANDARD
TZOFFSETFROM:-0400
TZOFFSETTO:-0500
TZNAME:EST
DTSTART:20261101T060000
END:STANDARD
END:VTIMEZONE
BEGIN:VEVENT
DTSTART;TZID=America/Toronto:20251104T150000
DTEND;TZID=America/Toronto:20251104T170000
DTSTAMP:20260419T111335
CREATED:20251014T222639Z
LAST-MODIFIED:20251023T210121Z
UID:10000135-1762268400-1762275600@www.maximizer.com
SUMMARY:Advanced Client Management - Accounts\, Client Service\, and Leads
DESCRIPTION:Dive deep into Maximizer’s advanced client management features designed for financial services. This class covers the complete lifecycle of client relationships from lead generation through account management and ongoing client service. Administrators will learn to configure and optimize these modules for their organization’s specific needs. \nAgenda: \n• Creating and viewing Accounts in detail\n• Setting up Account Objectives and defining Products/Services\n• Managing Account Status and monitoring systems\n• Creating Account Processes and Stages\n• Configuring Products\, Services\, and Categories\n• Advanced Account search capabilities and Search Catalog\n• Customizing Account Key Fields and User Defined Fields\n• Managing Account Interactions\, Notes\, Tasks\, and Files\n• Understanding the Account Timeline feature\n• Pipeline Reports and Accounts Timeline Reports\n• Lead creation and management processes\n• Lead Process and Stages configuration\n• Converting leads to accounts\n• Client Service case creation\, assignment\, and escalation \nTime: \n120 minutes\, with time for questions \nClass Code: FSE-302 \nClass Type: Administrator Training Class
URL:https://teams.microsoft.com/l/meetup-join/19%3ameeting_NzU2ZTA1ZmItZWNmMS00MDM2LTk3OTQtNWQ4ZGM1Y2M2OWFj%40thread.v2/0?context=%7b%22Tid%22%3a%226ccefe4e-4fc0-48fc-abed-dacb7df3e840%22%2c%22Oid%22%3a%22939aac36-0749-41ce-b5cd-bd0d274ca5f1%22%7d
CATEGORIES:Administrators,Financial Services Edition
ATTACH;FMTTYPE=image/jpeg:https://www.maximizer.com/wp-content/uploads/2025/08/2027.07_Maximizer_training-academy-header-image_1-10-min-scaled.jpg
ORGANIZER;CN="Luis Martinez":MAILTO:training@maximizer.com
LOCATION:https://teams.microsoft.com/l/meetup-join/19%3ameeting_NzU2ZTA1ZmItZWNmMS00MDM2LTk3OTQtNWQ4ZGM1Y2M2OWFj%40thread.v2/0?context=%7b%22Tid%22%3a%226ccefe4e-4fc0-48fc-abed-dacb7df3e840%22%2c%22Oid%22%3a%22939aac36-0749-41ce-b5cd-bd0d274ca5f1%22%7d
END:VEVENT
END:VCALENDAR