BEGIN:VCALENDAR
VERSION:2.0
PRODID:-//Maximizer CRM - ECPv6.15.18//NONSGML v1.0//EN
CALSCALE:GREGORIAN
METHOD:PUBLISH
X-ORIGINAL-URL:https://www.maximizer.com
X-WR-CALDESC:Events for Maximizer CRM
REFRESH-INTERVAL;VALUE=DURATION:PT1H
X-Robots-Tag:noindex
X-PUBLISHED-TTL:PT1H
BEGIN:VTIMEZONE
TZID:America/Toronto
BEGIN:DAYLIGHT
TZOFFSETFROM:-0500
TZOFFSETTO:-0400
TZNAME:EDT
DTSTART:20250309T070000
END:DAYLIGHT
BEGIN:STANDARD
TZOFFSETFROM:-0400
TZOFFSETTO:-0500
TZNAME:EST
DTSTART:20251102T060000
END:STANDARD
BEGIN:DAYLIGHT
TZOFFSETFROM:-0500
TZOFFSETTO:-0400
TZNAME:EDT
DTSTART:20260308T070000
END:DAYLIGHT
BEGIN:STANDARD
TZOFFSETFROM:-0400
TZOFFSETTO:-0500
TZNAME:EST
DTSTART:20261101T060000
END:STANDARD
BEGIN:DAYLIGHT
TZOFFSETFROM:-0500
TZOFFSETTO:-0400
TZNAME:EDT
DTSTART:20270314T070000
END:DAYLIGHT
BEGIN:STANDARD
TZOFFSETFROM:-0400
TZOFFSETTO:-0500
TZNAME:EST
DTSTART:20271107T060000
END:STANDARD
END:VTIMEZONE
BEGIN:VEVENT
DTSTART;TZID=America/Toronto:20260526T130000
DTEND;TZID=America/Toronto:20260526T133000
DTSTAMP:20260423T034637
CREATED:20260416T223004Z
LAST-MODIFIED:20260416T223004Z
UID:10000274-1779800400-1779802200@www.maximizer.com
SUMMARY:Ask the Admin: 1-on-1 Dedicated Support
DESCRIPTION:A complimentary 30-minute private session for you to book with a dedicated Maximizer Administrator to answer any questions. \nTime: 30 minutes \nCost: Free \nClass Code: MAX-000 \n  \n  \n 
URL:https://teams.microsoft.com/l/meetup-join/19%3ameeting_ODhkODU4NTYtZmVhNC00OTU0LWE5NGItNDc5NTZiYjgyMmM5%40thread.v2/0?context=%7b%22Tid%22%3a%226ccefe4e-4fc0-48fc-abed-dacb7df3e840%22%2c%22Oid%22%3a%22939aac36-0749-41ce-b5cd-bd0d274ca5f1%22%7d
CATEGORIES:Administrators,Base Edition,End-Users,Financial Services Edition,Sales Leader Edition
ATTACH;FMTTYPE=image/jpeg:https://www.maximizer.com/wp-content/uploads/2025/08/2027.07_Maximizer_training-academy-header-image_4-min-scaled.jpg
ORGANIZER;CN="Denis Yuriev":MAILTO:training@maximizer.com
LOCATION:https://teams.microsoft.com/l/meetup-join/19%3ameeting_ODhkODU4NTYtZmVhNC00OTU0LWE5NGItNDc5NTZiYjgyMmM5%40thread.v2/0?context=%7b%22Tid%22%3a%226ccefe4e-4fc0-48fc-abed-dacb7df3e840%22%2c%22Oid%22%3a%22939aac36-0749-41ce-b5cd-bd0d274ca5f1%22%7d
END:VEVENT
BEGIN:VEVENT
DTSTART;TZID=America/Toronto:20260528T130000
DTEND;TZID=America/Toronto:20260528T133000
DTSTAMP:20260423T034637
CREATED:20260416T223230Z
LAST-MODIFIED:20260416T223230Z
UID:10000275-1779973200-1779975000@www.maximizer.com
SUMMARY:Ask the Admin: 1-on-1 Dedicated Support
DESCRIPTION:A complimentary 30-minute private session for you to book with a dedicated Maximizer Administrator to answer any questions. \nTime: 30 minutes \nCost: Free \nClass Code: MAX-000 \n  \n  \n 
URL:https://teams.microsoft.com/l/meetup-join/19%3ameeting_NjI5NDM0ZmMtYmFjNi00ZWI1LWI3NzYtNDUxYmI4MWRkYjc0%40thread.v2/0?context=%7b%22Tid%22%3a%226ccefe4e-4fc0-48fc-abed-dacb7df3e840%22%2c%22Oid%22%3a%22939aac36-0749-41ce-b5cd-bd0d274ca5f1%22%7d
CATEGORIES:Administrators,Base Edition,End-Users,Financial Services Edition,Sales Leader Edition
ATTACH;FMTTYPE=image/jpeg:https://www.maximizer.com/wp-content/uploads/2025/08/2027.07_Maximizer_training-academy-header-image_4-min-scaled.jpg
ORGANIZER;CN="Denis Yuriev":MAILTO:training@maximizer.com
LOCATION:https://teams.microsoft.com/l/meetup-join/19%3ameeting_NjI5NDM0ZmMtYmFjNi00ZWI1LWI3NzYtNDUxYmI4MWRkYjc0%40thread.v2/0?context=%7b%22Tid%22%3a%226ccefe4e-4fc0-48fc-abed-dacb7df3e840%22%2c%22Oid%22%3a%22939aac36-0749-41ce-b5cd-bd0d274ca5f1%22%7d
END:VEVENT
BEGIN:VEVENT
DTSTART;TZID=America/Toronto:20260602T130000
DTEND;TZID=America/Toronto:20260602T133000
DTSTAMP:20260423T034637
CREATED:20260416T223728Z
LAST-MODIFIED:20260416T223728Z
UID:10000276-1780405200-1780407000@www.maximizer.com
SUMMARY:Ask the Admin: 1-on-1 Dedicated Support
DESCRIPTION:A complimentary 30-minute private session for you to book with a dedicated Maximizer Administrator to answer any questions. \nTime: 30 minutes \nCost: Free \nClass Code: MAX-000 \n  \n  \n 
URL:https://teams.microsoft.com/l/meetup-join/19%3ameeting_NjIxOWVkNzAtODhmOS00MTllLWEyMDUtNjczZDc3NjM0NzQ2%40thread.v2/0?context=%7b%22Tid%22%3a%226ccefe4e-4fc0-48fc-abed-dacb7df3e840%22%2c%22Oid%22%3a%22939aac36-0749-41ce-b5cd-bd0d274ca5f1%22%7d
CATEGORIES:Administrators,Base Edition,End-Users,Financial Services Edition,Sales Leader Edition
ATTACH;FMTTYPE=image/jpeg:https://www.maximizer.com/wp-content/uploads/2025/08/2027.07_Maximizer_training-academy-header-image_4-min-scaled.jpg
ORGANIZER;CN="Denis Yuriev":MAILTO:training@maximizer.com
LOCATION:https://teams.microsoft.com/l/meetup-join/19%3ameeting_NjIxOWVkNzAtODhmOS00MTllLWEyMDUtNjczZDc3NjM0NzQ2%40thread.v2/0?context=%7b%22Tid%22%3a%226ccefe4e-4fc0-48fc-abed-dacb7df3e840%22%2c%22Oid%22%3a%22939aac36-0749-41ce-b5cd-bd0d274ca5f1%22%7d
END:VEVENT
BEGIN:VEVENT
DTSTART;TZID=America/Toronto:20260604T130000
DTEND;TZID=America/Toronto:20260604T133000
DTSTAMP:20260423T034637
CREATED:20260416T225134Z
LAST-MODIFIED:20260416T225134Z
UID:10000277-1780578000-1780579800@www.maximizer.com
SUMMARY:Ask the Admin: 1-on-1 Dedicated Support
DESCRIPTION:A complimentary 30-minute private session for you to book with a dedicated Maximizer Administrator to answer any questions. \nTime: 30 minutes \nCost: Free \nClass Code: MAX-000 \n  \n  \n 
URL:https://teams.microsoft.com/l/meetup-join/19%3ameeting_MmVmNGEyYjYtZDM3ZS00MmY0LTljNDMtYmI3ZGUwMTliNmM0%40thread.v2/0?context=%7b%22Tid%22%3a%226ccefe4e-4fc0-48fc-abed-dacb7df3e840%22%2c%22Oid%22%3a%22939aac36-0749-41ce-b5cd-bd0d274ca5f1%22%7d
CATEGORIES:Administrators,Base Edition,End-Users,Financial Services Edition,Sales Leader Edition
ATTACH;FMTTYPE=image/jpeg:https://www.maximizer.com/wp-content/uploads/2025/08/2027.07_Maximizer_training-academy-header-image_4-min-scaled.jpg
ORGANIZER;CN="Denis Yuriev":MAILTO:training@maximizer.com
LOCATION:https://teams.microsoft.com/l/meetup-join/19%3ameeting_MmVmNGEyYjYtZDM3ZS00MmY0LTljNDMtYmI3ZGUwMTliNmM0%40thread.v2/0?context=%7b%22Tid%22%3a%226ccefe4e-4fc0-48fc-abed-dacb7df3e840%22%2c%22Oid%22%3a%22939aac36-0749-41ce-b5cd-bd0d274ca5f1%22%7d
END:VEVENT
BEGIN:VEVENT
DTSTART;TZID=America/Toronto:20260609T130000
DTEND;TZID=America/Toronto:20260609T133000
DTSTAMP:20260423T034637
CREATED:20260416T225434Z
LAST-MODIFIED:20260416T225434Z
UID:10000278-1781010000-1781011800@www.maximizer.com
SUMMARY:Ask the Admin: 1-on-1 Dedicated Support
DESCRIPTION:A complimentary 30-minute private session for you to book with a dedicated Maximizer Administrator to answer any questions. \nTime: 30 minutes \nCost: Free \nClass Code: MAX-000 \n  \n  \n 
URL:https://teams.microsoft.com/l/meetup-join/19%3ameeting_YzMxMzExYzAtN2I5Mi00MGE2LTk4MjUtMDhhMTJjZjkzYjBl%40thread.v2/0?context=%7b%22Tid%22%3a%226ccefe4e-4fc0-48fc-abed-dacb7df3e840%22%2c%22Oid%22%3a%22939aac36-0749-41ce-b5cd-bd0d274ca5f1%22%7d
CATEGORIES:Administrators,Base Edition,End-Users,Financial Services Edition,Sales Leader Edition
ATTACH;FMTTYPE=image/jpeg:https://www.maximizer.com/wp-content/uploads/2025/08/2027.07_Maximizer_training-academy-header-image_4-min-scaled.jpg
ORGANIZER;CN="Denis Yuriev":MAILTO:training@maximizer.com
LOCATION:https://teams.microsoft.com/l/meetup-join/19%3ameeting_YzMxMzExYzAtN2I5Mi00MGE2LTk4MjUtMDhhMTJjZjkzYjBl%40thread.v2/0?context=%7b%22Tid%22%3a%226ccefe4e-4fc0-48fc-abed-dacb7df3e840%22%2c%22Oid%22%3a%22939aac36-0749-41ce-b5cd-bd0d274ca5f1%22%7d
END:VEVENT
BEGIN:VEVENT
DTSTART;TZID=America/Toronto:20260611T130000
DTEND;TZID=America/Toronto:20260611T133000
DTSTAMP:20260423T034637
CREATED:20260416T225752Z
LAST-MODIFIED:20260416T225752Z
UID:10000279-1781182800-1781184600@www.maximizer.com
SUMMARY:Ask the Admin: 1-on-1 Dedicated Support
DESCRIPTION:A complimentary 30-minute private session for you to book with a dedicated Maximizer Administrator to answer any questions. \nTime: 30 minutes \nCost: Free \nClass Code: MAX-000 \n  \n  \n 
URL:https://teams.microsoft.com/l/meetup-join/19%3ameeting_Yzc2MWQ5ZWMtMjQ4NC00NDRlLWFlYjEtOWMxNDBmM2ViNDMx%40thread.v2/0?context=%7b%22Tid%22%3a%226ccefe4e-4fc0-48fc-abed-dacb7df3e840%22%2c%22Oid%22%3a%22939aac36-0749-41ce-b5cd-bd0d274ca5f1%22%7d
CATEGORIES:Administrators,Base Edition,End-Users,Financial Services Edition,Sales Leader Edition
ATTACH;FMTTYPE=image/jpeg:https://www.maximizer.com/wp-content/uploads/2025/08/2027.07_Maximizer_training-academy-header-image_4-min-scaled.jpg
ORGANIZER;CN="Denis Yuriev":MAILTO:training@maximizer.com
LOCATION:https://teams.microsoft.com/l/meetup-join/19%3ameeting_Yzc2MWQ5ZWMtMjQ4NC00NDRlLWFlYjEtOWMxNDBmM2ViNDMx%40thread.v2/0?context=%7b%22Tid%22%3a%226ccefe4e-4fc0-48fc-abed-dacb7df3e840%22%2c%22Oid%22%3a%22939aac36-0749-41ce-b5cd-bd0d274ca5f1%22%7d
END:VEVENT
BEGIN:VEVENT
DTSTART;TZID=America/Toronto:20260616T130000
DTEND;TZID=America/Toronto:20260616T133000
DTSTAMP:20260423T034637
CREATED:20260417T155832Z
LAST-MODIFIED:20260417T155832Z
UID:10000280-1781614800-1781616600@www.maximizer.com
SUMMARY:Ask the Admin: 1-on-1 Dedicated Support
DESCRIPTION:A complimentary 30-minute private session for you to book with a dedicated Maximizer Administrator to answer any questions. \nTime: 30 minutes \nCost: Free \nClass Code: MAX-000 \n  \n  \n 
URL:https://teams.microsoft.com/l/meetup-join/19%3ameeting_OTZjY2I4YmEtOTNiYi00ZjZjLTg5YTMtNDVjZjc2ZTI2NzYy%40thread.v2/0?context=%7b%22Tid%22%3a%226ccefe4e-4fc0-48fc-abed-dacb7df3e840%22%2c%22Oid%22%3a%22939aac36-0749-41ce-b5cd-bd0d274ca5f1%22%7d
CATEGORIES:Administrators,Base Edition,End-Users,Financial Services Edition,Sales Leader Edition
ATTACH;FMTTYPE=image/jpeg:https://www.maximizer.com/wp-content/uploads/2025/08/2027.07_Maximizer_training-academy-header-image_4-min-scaled.jpg
ORGANIZER;CN="Denis Yuriev":MAILTO:training@maximizer.com
LOCATION:https://teams.microsoft.com/l/meetup-join/19%3ameeting_OTZjY2I4YmEtOTNiYi00ZjZjLTg5YTMtNDVjZjc2ZTI2NzYy%40thread.v2/0?context=%7b%22Tid%22%3a%226ccefe4e-4fc0-48fc-abed-dacb7df3e840%22%2c%22Oid%22%3a%22939aac36-0749-41ce-b5cd-bd0d274ca5f1%22%7d
END:VEVENT
BEGIN:VEVENT
DTSTART;TZID=America/Toronto:20260618T130000
DTEND;TZID=America/Toronto:20260618T133000
DTSTAMP:20260423T034637
CREATED:20260417T160012Z
LAST-MODIFIED:20260417T160012Z
UID:10000281-1781787600-1781789400@www.maximizer.com
SUMMARY:Ask the Admin: 1-on-1 Dedicated Support
DESCRIPTION:A complimentary 30-minute private session for you to book with a dedicated Maximizer Administrator to answer any questions. \nTime: 30 minutes \nCost: Free \nClass Code: MAX-000 \n  \n  \n 
URL:https://teams.microsoft.com/l/meetup-join/19%3ameeting_NmEwOGJmZTAtMjU0Yi00N2IzLTllNmUtZmMwNWY2YmZkNWM5%40thread.v2/0?context=%7b%22Tid%22%3a%226ccefe4e-4fc0-48fc-abed-dacb7df3e840%22%2c%22Oid%22%3a%22939aac36-0749-41ce-b5cd-bd0d274ca5f1%22%7d
CATEGORIES:Administrators,Base Edition,End-Users,Financial Services Edition,Sales Leader Edition
ATTACH;FMTTYPE=image/jpeg:https://www.maximizer.com/wp-content/uploads/2025/08/2027.07_Maximizer_training-academy-header-image_4-min-scaled.jpg
ORGANIZER;CN="Denis Yuriev":MAILTO:training@maximizer.com
LOCATION:https://teams.microsoft.com/l/meetup-join/19%3ameeting_NmEwOGJmZTAtMjU0Yi00N2IzLTllNmUtZmMwNWY2YmZkNWM5%40thread.v2/0?context=%7b%22Tid%22%3a%226ccefe4e-4fc0-48fc-abed-dacb7df3e840%22%2c%22Oid%22%3a%22939aac36-0749-41ce-b5cd-bd0d274ca5f1%22%7d
END:VEVENT
BEGIN:VEVENT
DTSTART;TZID=America/Toronto:20260623T130000
DTEND;TZID=America/Toronto:20260623T133000
DTSTAMP:20260423T034637
CREATED:20260417T160343Z
LAST-MODIFIED:20260417T160343Z
UID:10000282-1782219600-1782221400@www.maximizer.com
SUMMARY:Ask the Admin: 1-on-1 Dedicated Support
DESCRIPTION:A complimentary 30-minute private session for you to book with a dedicated Maximizer Administrator to answer any questions. \nTime: 30 minutes \nCost: Free \nClass Code: MAX-000 \n  \n  \n 
URL:https://teams.microsoft.com/l/meetup-join/19%3ameeting_ZDg0NTMyYzItNGU0My00NWVlLTk3MjgtNDRjNGUwMDVjZWI4%40thread.v2/0?context=%7b%22Tid%22%3a%226ccefe4e-4fc0-48fc-abed-dacb7df3e840%22%2c%22Oid%22%3a%22939aac36-0749-41ce-b5cd-bd0d274ca5f1%22%7d
CATEGORIES:Administrators,Base Edition,End-Users,Financial Services Edition,Sales Leader Edition
ATTACH;FMTTYPE=image/jpeg:https://www.maximizer.com/wp-content/uploads/2025/08/2027.07_Maximizer_training-academy-header-image_4-min-scaled.jpg
ORGANIZER;CN="Denis Yuriev":MAILTO:training@maximizer.com
LOCATION:https://teams.microsoft.com/l/meetup-join/19%3ameeting_ZDg0NTMyYzItNGU0My00NWVlLTk3MjgtNDRjNGUwMDVjZWI4%40thread.v2/0?context=%7b%22Tid%22%3a%226ccefe4e-4fc0-48fc-abed-dacb7df3e840%22%2c%22Oid%22%3a%22939aac36-0749-41ce-b5cd-bd0d274ca5f1%22%7d
END:VEVENT
BEGIN:VEVENT
DTSTART;TZID=America/Toronto:20260625T130000
DTEND;TZID=America/Toronto:20260625T133000
DTSTAMP:20260423T034637
CREATED:20260417T160619Z
LAST-MODIFIED:20260417T160619Z
UID:10000283-1782392400-1782394200@www.maximizer.com
SUMMARY:Ask the Admin: 1-on-1 Dedicated Support
DESCRIPTION:A complimentary 30-minute private session for you to book with a dedicated Maximizer Administrator to answer any questions. \nTime: 30 minutes \nCost: Free \nClass Code: MAX-000 \n  \n  \n 
URL:https://teams.microsoft.com/l/meetup-join/19%3ameeting_YTkzNjM0YWEtOTE3OS00ZjFkLTlkZGUtNzNmOWY0YjM1MDE3%40thread.v2/0?context=%7b%22Tid%22%3a%226ccefe4e-4fc0-48fc-abed-dacb7df3e840%22%2c%22Oid%22%3a%22939aac36-0749-41ce-b5cd-bd0d274ca5f1%22%7d
CATEGORIES:Administrators,Base Edition,End-Users,Financial Services Edition,Sales Leader Edition
ATTACH;FMTTYPE=image/jpeg:https://www.maximizer.com/wp-content/uploads/2025/08/2027.07_Maximizer_training-academy-header-image_4-min-scaled.jpg
ORGANIZER;CN="Denis Yuriev":MAILTO:training@maximizer.com
LOCATION:https://teams.microsoft.com/l/meetup-join/19%3ameeting_YTkzNjM0YWEtOTE3OS00ZjFkLTlkZGUtNzNmOWY0YjM1MDE3%40thread.v2/0?context=%7b%22Tid%22%3a%226ccefe4e-4fc0-48fc-abed-dacb7df3e840%22%2c%22Oid%22%3a%22939aac36-0749-41ce-b5cd-bd0d274ca5f1%22%7d
END:VEVENT
BEGIN:VEVENT
DTSTART;TZID=America/Toronto:20260630T130000
DTEND;TZID=America/Toronto:20260630T133000
DTSTAMP:20260423T034637
CREATED:20260417T160833Z
LAST-MODIFIED:20260417T160833Z
UID:10000284-1782824400-1782826200@www.maximizer.com
SUMMARY:Ask the Admin: 1-on-1 Dedicated Support
DESCRIPTION:A complimentary 30-minute private session for you to book with a dedicated Maximizer Administrator to answer any questions. \nTime: 30 minutes \nCost: Free \nClass Code: MAX-000 \n  \n  \n 
URL:https://teams.microsoft.com/l/meetup-join/19%3ameeting_ZmNjMzJlNmMtODI4MS00ZGQ2LWJiNjctYjg3NTg1OGY0YTIw%40thread.v2/0?context=%7b%22Tid%22%3a%226ccefe4e-4fc0-48fc-abed-dacb7df3e840%22%2c%22Oid%22%3a%22939aac36-0749-41ce-b5cd-bd0d274ca5f1%22%7d
CATEGORIES:Administrators,Base Edition,End-Users,Financial Services Edition,Sales Leader Edition
ATTACH;FMTTYPE=image/jpeg:https://www.maximizer.com/wp-content/uploads/2025/08/2027.07_Maximizer_training-academy-header-image_4-min-scaled.jpg
ORGANIZER;CN="Denis Yuriev":MAILTO:training@maximizer.com
LOCATION:https://teams.microsoft.com/l/meetup-join/19%3ameeting_ZmNjMzJlNmMtODI4MS00ZGQ2LWJiNjctYjg3NTg1OGY0YTIw%40thread.v2/0?context=%7b%22Tid%22%3a%226ccefe4e-4fc0-48fc-abed-dacb7df3e840%22%2c%22Oid%22%3a%22939aac36-0749-41ce-b5cd-bd0d274ca5f1%22%7d
END:VEVENT
BEGIN:VEVENT
DTSTART;TZID=America/Toronto:20260702T130000
DTEND;TZID=America/Toronto:20260702T133000
DTSTAMP:20260423T034637
CREATED:20260417T161039Z
LAST-MODIFIED:20260417T161039Z
UID:10000285-1782997200-1782999000@www.maximizer.com
SUMMARY:Ask the Admin: 1-on-1 Dedicated Support
DESCRIPTION:A complimentary 30-minute private session for you to book with a dedicated Maximizer Administrator to answer any questions. \nTime: 30 minutes \nCost: Free \nClass Code: MAX-000 \n  \n  \n  \n 
URL:https://teams.microsoft.com/l/meetup-join/19%3ameeting_MjdkZTU1ZmItMDEzYi00ZTMzLWExMGEtN2UyNDUwYjgwNTBl%40thread.v2/0?context=%7b%22Tid%22%3a%226ccefe4e-4fc0-48fc-abed-dacb7df3e840%22%2c%22Oid%22%3a%22939aac36-0749-41ce-b5cd-bd0d274ca5f1%22%7d
CATEGORIES:Administrators,Base Edition,End-Users,Financial Services Edition,Sales Leader Edition
ATTACH;FMTTYPE=image/jpeg:https://www.maximizer.com/wp-content/uploads/2025/08/2027.07_Maximizer_training-academy-header-image_4-min-scaled.jpg
ORGANIZER;CN="Denis Yuriev":MAILTO:training@maximizer.com
LOCATION:https://teams.microsoft.com/l/meetup-join/19%3ameeting_MjdkZTU1ZmItMDEzYi00ZTMzLWExMGEtN2UyNDUwYjgwNTBl%40thread.v2/0?context=%7b%22Tid%22%3a%226ccefe4e-4fc0-48fc-abed-dacb7df3e840%22%2c%22Oid%22%3a%22939aac36-0749-41ce-b5cd-bd0d274ca5f1%22%7d
END:VEVENT
END:VCALENDAR